BEGIN:VCALENDAR
VERSION:2.0
PRODID:-//Holy Duck! - ECPv6.15.11//NONSGML v1.0//EN
CALSCALE:GREGORIAN
METHOD:PUBLISH
X-ORIGINAL-URL:https://www.holyduck.com.au
X-WR-CALDESC:Events for Holy Duck!
REFRESH-INTERVAL;VALUE=DURATION:PT1H
X-Robots-Tag:noindex
X-PUBLISHED-TTL:PT1H
BEGIN:VTIMEZONE
TZID:Australia/Sydney
BEGIN:STANDARD
TZOFFSETFROM:+1100
TZOFFSETTO:+1000
TZNAME:AEST
DTSTART:20180331T160000
END:STANDARD
BEGIN:DAYLIGHT
TZOFFSETFROM:+1000
TZOFFSETTO:+1100
TZNAME:AEDT
DTSTART:20181006T160000
END:DAYLIGHT
BEGIN:STANDARD
TZOFFSETFROM:+1100
TZOFFSETTO:+1000
TZNAME:AEST
DTSTART:20190406T160000
END:STANDARD
BEGIN:DAYLIGHT
TZOFFSETFROM:+1000
TZOFFSETTO:+1100
TZNAME:AEDT
DTSTART:20191005T160000
END:DAYLIGHT
BEGIN:STANDARD
TZOFFSETFROM:+1100
TZOFFSETTO:+1000
TZNAME:AEST
DTSTART:20200404T160000
END:STANDARD
BEGIN:DAYLIGHT
TZOFFSETFROM:+1000
TZOFFSETTO:+1100
TZNAME:AEDT
DTSTART:20201003T160000
END:DAYLIGHT
BEGIN:STANDARD
TZOFFSETFROM:+1100
TZOFFSETTO:+1000
TZNAME:AEST
DTSTART:20210403T160000
END:STANDARD
BEGIN:DAYLIGHT
TZOFFSETFROM:+1000
TZOFFSETTO:+1100
TZNAME:AEDT
DTSTART:20211002T160000
END:DAYLIGHT
BEGIN:STANDARD
TZOFFSETFROM:+1100
TZOFFSETTO:+1000
TZNAME:AEST
DTSTART:20220402T160000
END:STANDARD
BEGIN:DAYLIGHT
TZOFFSETFROM:+1000
TZOFFSETTO:+1100
TZNAME:AEDT
DTSTART:20221001T160000
END:DAYLIGHT
BEGIN:STANDARD
TZOFFSETFROM:+1100
TZOFFSETTO:+1000
TZNAME:AEST
DTSTART:20230401T160000
END:STANDARD
BEGIN:DAYLIGHT
TZOFFSETFROM:+1000
TZOFFSETTO:+1100
TZNAME:AEDT
DTSTART:20230930T160000
END:DAYLIGHT
BEGIN:STANDARD
TZOFFSETFROM:+1100
TZOFFSETTO:+1000
TZNAME:AEST
DTSTART:20240406T160000
END:STANDARD
BEGIN:DAYLIGHT
TZOFFSETFROM:+1000
TZOFFSETTO:+1100
TZNAME:AEDT
DTSTART:20241005T160000
END:DAYLIGHT
END:VTIMEZONE
BEGIN:VEVENT
DTSTART;VALUE=DATE:20220214
DTEND;VALUE=DATE:20220301
DTSTAMP:20260420T000313
CREATED:20220208T093528Z
LAST-MODIFIED:20220208T234053Z
UID:1256-1644796800-1646092799@www.holyduck.com.au
SUMMARY:Duck Waffles
DESCRIPTION:CHICKEN or DUCK? You choose!Waddle on in for your weekday lunch and experience the ULTIMATE clucking combo. Freshly toasted waffles served with our signature duck or chicken\, special sauce\, and a side of salad and chips. \nThe only choice you need to worry about is; CHICKEN or DUCK? \nAvailable for lunch ONLY Monday to Friday\, 11am-3pm \nBook now or stroll on down to avoid missing out! BOOK NOW
URL:https://www.holyduck.com.au/event/duck-waffles/
LOCATION:Holy Duck!\, 2 – 10 Kensington St\, Chippendale\, NSW\, 2008
CATEGORIES:Featured,Specials
ATTACH;FMTTYPE=image/jpeg:https://www.holyduck.com.au/wp-content/uploads/2022/02/Holy-Duck_Duck-waffles-special.jpg
END:VEVENT
BEGIN:VEVENT
DTSTART;TZID=Australia/Sydney:20220104T170000
DTEND;TZID=Australia/Sydney:20231231T190000
DTSTAMP:20260420T000313
CREATED:20210120T060943Z
LAST-MODIFIED:20230808T014241Z
UID:1156-1641315600-1704049200@www.holyduck.com.au
SUMMARY:Quacky Hour at Holy Duck!
DESCRIPTION:EVERYDAY FROM 5:30-7:00PMCome join us for “quacky hour”\, sip\, swirl or savour a Holy Duck! signiture cocktail for only $15 whilst you feast on your favourite duck dishes. \nDate: Every day\nTime: 5:30-7:00pm\nSpecial: $15 Cocktails \nCocktails: All Signature Cocktails \n*Not including the ‘Holy Duck! Signature Sangria’*
URL:https://www.holyduck.com.au/event/quacky-hour-at-holy-duck/
LOCATION:Holy Duck!\, 2 – 10 Kensington St\, Chippendale\, NSW\, 2008
CATEGORIES:Featured,Specials
ATTACH;FMTTYPE=image/jpeg:https://www.holyduck.com.au/wp-content/uploads/2021/01/Holy-Duck_Happy-Hour-2021_1200x800.jpg
END:VEVENT
BEGIN:VEVENT
DTSTART;VALUE=DATE:20210601
DTEND;VALUE=DATE:20210701
DTSTAMP:20260420T000313
CREATED:20210604T055307Z
LAST-MODIFIED:20210604T055307Z
UID:1193-1622505600-1625097599@www.holyduck.com.au
SUMMARY:Dine & Discover Meal Deal!
DESCRIPTION:Dine & Discover Combo DealWaddle on down to Holy Duck! for a ducking good deal for your NSW Dine & Discover Voucher! \n​Grab the ROAST HOLY DUCK! Rice Meal & an Asahi Beer with the redemption of your $25 NSW Dine & Discover voucher. \nOffer available until the end of June!
URL:https://www.holyduck.com.au/event/dine-discover-meal-deal/
LOCATION:Holy Duck!\, 2 – 10 Kensington St\, Chippendale\, NSW\, 2008
CATEGORIES:Featured,Specials
ATTACH;FMTTYPE=image/png:https://www.holyduck.com.au/wp-content/uploads/2021/06/Holy-Duck_Dine-Discover_202106.png
END:VEVENT
BEGIN:VEVENT
DTSTART;VALUE=DATE:20210601
DTEND;VALUE=DATE:20210701
DTSTAMP:20260420T000313
CREATED:20210604T054612Z
LAST-MODIFIED:20210604T055353Z
UID:1187-1622505600-1625097599@www.holyduck.com.au
SUMMARY:Holy Duck Spring Rolls
DESCRIPTION:$1 Duck Spring RollsHoly Duck! $1 duck spring rolls every Monday from 5:30pm until SOLD OUT! \nWith a spring in our step we’re exited to bring you delicious golden spring rolls filled with duck\, Chinese wood ear mushroom & vegetable with sweet chilli plum dipping sauce. Wash them down with some delicious cocktails or a glass of wine. \nOffer only redeemable with the purchase of ONE main meal per person. \nBook now or get in early to avoid missing out! \nBOOK NOW
URL:https://www.holyduck.com.au/event/spring-rolls/
LOCATION:Holy Duck!\, 2 – 10 Kensington St\, Chippendale\, NSW\, 2008
CATEGORIES:Featured,Specials
ATTACH;FMTTYPE=image/png:https://www.holyduck.com.au/wp-content/uploads/2021/06/HD-Spring-Rolls_202106.png
END:VEVENT
BEGIN:VEVENT
DTSTART;VALUE=DATE:20210213
DTEND;VALUE=DATE:20210215
DTSTAMP:20260420T000313
CREATED:20210120T055458Z
LAST-MODIFIED:20210120T055458Z
UID:1147-1613174400-1613347199@www.holyduck.com.au
SUMMARY:Valentine’s Day at Holy Duck!
DESCRIPTION:What are you and your duck buddy doing this Valentine’s Day?Why not treat your duck buddy (or buddies) to a feast. Order the ‘What The Duck’ $69 set menu for 2 or more people and get a complimentary glass of bubbles! \nDates: 13th and 14th February\nLunch and Dinner \nPrice: $69pp (for 2 or more) \nBookings highly recommended.BOOK NOW
URL:https://www.holyduck.com.au/event/valentines-day-at-holy-duck/
LOCATION:Holy Duck!\, 2 – 10 Kensington St\, Chippendale\, NSW\, 2008
CATEGORIES:Featured,Specials
ATTACH;FMTTYPE=image/png:https://www.holyduck.com.au/wp-content/uploads/2021/01/Holy-Duck_Event_Valentines-Day_Banner-1.png
END:VEVENT
BEGIN:VEVENT
DTSTART;VALUE=DATE:20190601
DTEND;VALUE=DATE:20190715
DTSTAMP:20260420T000313
CREATED:20190509T035140Z
LAST-MODIFIED:20191110T232446Z
UID:467-1559347200-1563148799@www.holyduck.com.au
SUMMARY:Holy Duck! Sichuan Specials
DESCRIPTION:Sichuan SpecialsSpecials from the Sichuan provinceHoly Duck! has brought a little bit of regional China to Sydney\, with some specials from the Sichuan province. \nSichuan cuisine is characterised by its distinct ingredients and bold flavours. Perhaps most well-known is the Sichuan peppercorn\, which has an intense fragrant\, citrus-like flavour known for producing a numbing sensation when eaten. \nGarlic\, chilli peppers\, ginger and star anise are just a few other ingredients you will come across on this edible expedition through the Sichuan Province. \nThese specials are available at dinner\, for a limited time only. \nBOOK A TABLE
URL:https://www.holyduck.com.au/event/holy-duck-sichuan-specials/
LOCATION:Holy Duck!\, 2 – 10 Kensington St\, Chippendale\, NSW\, 2008
CATEGORIES:Recent,Specials
ATTACH;FMTTYPE=image/jpeg:https://www.holyduck.com.au/wp-content/uploads/2019/05/HD_RDS_Szechuan-5.jpg
END:VEVENT
END:VCALENDAR